BEGIN:VCALENDAR
VERSION:2.0
PRODID:-//Geneva English Drama Society (GEDS) - ECPv6.11.2.1//NONSGML v1.0//EN
CALSCALE:GREGORIAN
METHOD:PUBLISH
X-ORIGINAL-URL:https://www.geds.ch/GEDSWEB
X-WR-CALDESC:Events for Geneva English Drama Society (GEDS)
REFRESH-INTERVAL;VALUE=DURATION:PT1H
X-Robots-Tag:noindex
X-PUBLISHED-TTL:PT1H
BEGIN:VTIMEZONE
TZID:Europe/Paris
BEGIN:DAYLIGHT
TZOFFSETFROM:+0100
TZOFFSETTO:+0200
TZNAME:CEST
DTSTART:20260329T010000
END:DAYLIGHT
BEGIN:STANDARD
TZOFFSETFROM:+0200
TZOFFSETTO:+0100
TZNAME:CET
DTSTART:20261025T010000
END:STANDARD
END:VTIMEZONE
BEGIN:VEVENT
DTSTART;TZID=Europe/Paris:20260526T190000
DTEND;TZID=Europe/Paris:20260526T223000
DTSTAMP:20260425T013039
CREATED:20260409T194730Z
LAST-MODIFIED:20260409T194730Z
UID:9537-1779822000-1779834600@www.geds.ch
SUMMARY:'A Skull in Connemara' by Martin McDonagh
DESCRIPTION:You need to be logged in to view this content. Please Log In. Not a Member? Join Us
URL:https://www.geds.ch/GEDSWEB/event/a-skull-in-connemara-by-martin-mcdonagh/
LOCATION:UPTOWN\, 2 Rue de la Servette  \, 1201 Genève\, Switzerland
CATEGORIES:Sign up: Playreadings 2025-26
ORGANIZER;CN="Paul Rogers":MAILTO:paulrogers636@gmail.com
END:VEVENT
END:VCALENDAR